BEGIN:VCALENDAR
VERSION:2.0
PRODID:-//Roanoke Valley Association of REALTORS® - ECPv6.15.18//NONSGML v1.0//EN
CALSCALE:GREGORIAN
METHOD:PUBLISH
X-WR-CALNAME:Roanoke Valley Association of REALTORS®
X-ORIGINAL-URL:https://rvar.com
X-WR-CALDESC:Events for Roanoke Valley Association of REALTORS®
REFRESH-INTERVAL;VALUE=DURATION:PT1H
X-Robots-Tag:noindex
X-PUBLISHED-TTL:PT1H
BEGIN:VTIMEZONE
TZID:America/Detroit
BEGIN:DAYLIGHT
TZOFFSETFROM:-0500
TZOFFSETTO:-0400
TZNAME:EDT
DTSTART:20230312T070000
END:DAYLIGHT
BEGIN:STANDARD
TZOFFSETFROM:-0400
TZOFFSETTO:-0500
TZNAME:EST
DTSTART:20231105T060000
END:STANDARD
BEGIN:DAYLIGHT
TZOFFSETFROM:-0500
TZOFFSETTO:-0400
TZNAME:EDT
DTSTART:20240310T070000
END:DAYLIGHT
BEGIN:STANDARD
TZOFFSETFROM:-0400
TZOFFSETTO:-0500
TZNAME:EST
DTSTART:20241103T060000
END:STANDARD
BEGIN:DAYLIGHT
TZOFFSETFROM:-0500
TZOFFSETTO:-0400
TZNAME:EDT
DTSTART:20250309T070000
END:DAYLIGHT
BEGIN:STANDARD
TZOFFSETFROM:-0400
TZOFFSETTO:-0500
TZNAME:EST
DTSTART:20251102T060000
END:STANDARD
END:VTIMEZONE
BEGIN:VEVENT
DTSTART;TZID=America/Detroit:20241113T073000
DTEND;TZID=America/Detroit:20241113T100000
DTSTAMP:20260423T051637
CREATED:20240926T153330Z
LAST-MODIFIED:20241015T113022Z
UID:1493-1731483000-1731492000@rvar.com
SUMMARY:Legislative Breakfast
DESCRIPTION:Salem Civic Center \nClick here to register
URL:https://rvar.com/event/legislative-breakfast/
LOCATION:Salem Civic Center\, 1001 Roanoke Blvd\, Salem\, VA\, 24153\, United States
END:VEVENT
END:VCALENDAR