BEGIN:VCALENDAR
VERSION:2.0
PRODID:-//Roanoke Valley Association of REALTORS® - ECPv6.15.18//NONSGML v1.0//EN
CALSCALE:GREGORIAN
METHOD:PUBLISH
X-WR-CALNAME:Roanoke Valley Association of REALTORS®
X-ORIGINAL-URL:https://rvar.com
X-WR-CALDESC:Events for Roanoke Valley Association of REALTORS®
REFRESH-INTERVAL;VALUE=DURATION:PT1H
X-Robots-Tag:noindex
X-PUBLISHED-TTL:PT1H
BEGIN:VTIMEZONE
TZID:America/Detroit
BEGIN:DAYLIGHT
TZOFFSETFROM:-0500
TZOFFSETTO:-0400
TZNAME:EDT
DTSTART:20230312T070000
END:DAYLIGHT
BEGIN:STANDARD
TZOFFSETFROM:-0400
TZOFFSETTO:-0500
TZNAME:EST
DTSTART:20231105T060000
END:STANDARD
BEGIN:DAYLIGHT
TZOFFSETFROM:-0500
TZOFFSETTO:-0400
TZNAME:EDT
DTSTART:20240310T070000
END:DAYLIGHT
BEGIN:STANDARD
TZOFFSETFROM:-0400
TZOFFSETTO:-0500
TZNAME:EST
DTSTART:20241103T060000
END:STANDARD
BEGIN:DAYLIGHT
TZOFFSETFROM:-0500
TZOFFSETTO:-0400
TZNAME:EDT
DTSTART:20250309T070000
END:DAYLIGHT
BEGIN:STANDARD
TZOFFSETFROM:-0400
TZOFFSETTO:-0500
TZNAME:EST
DTSTART:20251102T060000
END:STANDARD
BEGIN:DAYLIGHT
TZOFFSETFROM:-0500
TZOFFSETTO:-0400
TZNAME:EDT
DTSTART:20260308T070000
END:DAYLIGHT
BEGIN:STANDARD
TZOFFSETFROM:-0400
TZOFFSETTO:-0500
TZNAME:EST
DTSTART:20261101T060000
END:STANDARD
BEGIN:DAYLIGHT
TZOFFSETFROM:-0500
TZOFFSETTO:-0400
TZNAME:EDT
DTSTART:20270314T070000
END:DAYLIGHT
BEGIN:STANDARD
TZOFFSETFROM:-0400
TZOFFSETTO:-0500
TZNAME:EST
DTSTART:20271107T060000
END:STANDARD
END:VTIMEZONE
BEGIN:VEVENT
DTSTART;TZID=America/Detroit:20260414T170000
DTEND;TZID=America/Detroit:20260414T200000
DTSTAMP:20260420T012815
CREATED:20260224T214722Z
LAST-MODIFIED:20260224T221246Z
UID:2458-1776186000-1776196800@rvar.com
SUMMARY:2026 REALTOR® & Affiliate Night
DESCRIPTION:Click here to log on and buy tickets. \nClick here to download ticket flyer.
URL:https://rvar.com/event/2026-realtor-affiliate-night/
LOCATION:VA
END:VEVENT
BEGIN:VEVENT
DTSTART;TZID=America/Detroit:20260319T110000
DTEND;TZID=America/Detroit:20260319T123000
DTSTAMP:20260420T012815
CREATED:20251110T162319Z
LAST-MODIFIED:20251110T162319Z
UID:2285-1773918000-1773923400@rvar.com
SUMMARY:RVAR Education - Mind the Lines: Class on Surveys
DESCRIPTION:Click here for more information and to register.
URL:https://rvar.com/event/rvar-education-mind-the-lines-class-on-surveys/
LOCATION:VA
END:VEVENT
BEGIN:VEVENT
DTSTART;TZID=America/Detroit:20260226T110000
DTEND;TZID=America/Detroit:20260226T123000
DTSTAMP:20260420T012815
CREATED:20251110T161222Z
LAST-MODIFIED:20251110T161222Z
UID:2279-1772103600-1772109000@rvar.com
SUMMARY:RVAR Education - Beyond City Limits: Selling Farms and Land
DESCRIPTION:Click here for more information and to register.
URL:https://rvar.com/event/rvar-education-beyond-city-limits-selling-farms-and-land/
LOCATION:VA
END:VEVENT
BEGIN:VEVENT
DTSTART;TZID=America/Detroit:20260213T070000
DTEND;TZID=America/Detroit:20260213T220000
DTSTAMP:20260420T012815
CREATED:20260102T181243Z
LAST-MODIFIED:20260102T181243Z
UID:2347-1770966000-1771020000@rvar.com
SUMMARY:Family Fun Night - Rail Yard Dawgs
DESCRIPTION:Click here for more information and to purchase tickets.
URL:https://rvar.com/event/family-fun-night-rail-yard-dawgs/
LOCATION:VA
END:VEVENT
BEGIN:VEVENT
DTSTART;TZID=America/Detroit:20260122T170000
DTEND;TZID=America/Detroit:20260122T190000
DTSTAMP:20260420T012815
CREATED:20260102T175231Z
LAST-MODIFIED:20260102T175347Z
UID:2343-1769101200-1769108400@rvar.com
SUMMARY:5 O'clock Hops - Twisted Track Brew Pub
DESCRIPTION:Click here for more information.
URL:https://rvar.com/event/5-oclock-hops/
LOCATION:VA
END:VEVENT
BEGIN:VEVENT
DTSTART;VALUE=DATE:20251231
DTEND;VALUE=DATE:20260102
DTSTAMP:20260420T012815
CREATED:20251215T152100Z
LAST-MODIFIED:20251215T152100Z
UID:2323-1767139200-1767311999@rvar.com
SUMMARY:RVAR Office Closed for New Year's
DESCRIPTION:
URL:https://rvar.com/event/rvar-office-closed-for-new-years-2/
LOCATION:VA
END:VEVENT
BEGIN:VEVENT
DTSTART;VALUE=DATE:20251224
DTEND;VALUE=DATE:20251227
DTSTAMP:20260420T012815
CREATED:20251215T151949Z
LAST-MODIFIED:20251215T151949Z
UID:2321-1766534400-1766793599@rvar.com
SUMMARY:RVAR Office Closed for Christmas
DESCRIPTION:
URL:https://rvar.com/event/rvar-office-closed-for-christmas-2/
LOCATION:VA
END:VEVENT
BEGIN:VEVENT
DTSTART;TZID=America/Detroit:20251212T083000
DTEND;TZID=America/Detroit:20251212T103000
DTSTAMP:20260420T012815
CREATED:20251110T143611Z
LAST-MODIFIED:20251110T143611Z
UID:2275-1765528200-1765535400@rvar.com
SUMMARY:2025 RVAR Installation & Awards Breakfast
DESCRIPTION:Click here to register.
URL:https://rvar.com/event/2025-rvar-installation-awards-breakfast/
LOCATION:VA
END:VEVENT
BEGIN:VEVENT
DTSTART;VALUE=DATE:20251127
DTEND;VALUE=DATE:20251129
DTSTAMP:20260420T012815
CREATED:20251110T161528Z
LAST-MODIFIED:20251110T161528Z
UID:2283-1764201600-1764374399@rvar.com
SUMMARY:RVAR Office Closed for Thanksgiving Holiday
DESCRIPTION:
URL:https://rvar.com/event/rvar-office-closed-for-thanksgiving-holiday/
LOCATION:VA
END:VEVENT
BEGIN:VEVENT
DTSTART;VALUE=DATE:20251111
DTEND;VALUE=DATE:20251112
DTSTAMP:20260420T012815
CREATED:20251110T161327Z
LAST-MODIFIED:20251110T161410Z
UID:2281-1762819200-1762905599@rvar.com
SUMMARY:RVAR Office Closed for Veterans Day
DESCRIPTION:
URL:https://rvar.com/event/rvar-office-closed-for-veterans-day-2/
LOCATION:VA
END:VEVENT
BEGIN:VEVENT
DTSTART;TZID=America/Detroit:20251029T110000
DTEND;TZID=America/Detroit:20251029T123000
DTSTAMP:20260420T012815
CREATED:20250811T145810Z
LAST-MODIFIED:20250811T145810Z
UID:2067-1761735600-1761741000@rvar.com
SUMMARY:RVAR Education: So You Want to Be a Landlord
DESCRIPTION:Click here to register by form. \nClick here to register online.
URL:https://rvar.com/event/rvar-education-so-you-want-to-be-a-landlord/
LOCATION:VA
END:VEVENT
BEGIN:VEVENT
DTSTART;TZID=America/Detroit:20251016T170000
DTEND;TZID=America/Detroit:20251016T190000
DTSTAMP:20260420T012815
CREATED:20250919T191629Z
LAST-MODIFIED:20250919T191629Z
UID:2147-1760634000-1760641200@rvar.com
SUMMARY:RVAR Cornhole Tournament
DESCRIPTION:Click here to register online. \nClick here to register by form. \nThis event is part of the RVAR Spooky Tailgate.
URL:https://rvar.com/event/rvar-cornhole-tournament/
LOCATION:RVAR Office\, 4358 Starkey Rd.\, Roanoke\, VA\, 24018\, United States
END:VEVENT
BEGIN:VEVENT
DTSTART;TZID=America/Detroit:20251016T170000
DTEND;TZID=America/Detroit:20251016T190000
DTSTAMP:20260420T012815
CREATED:20250919T191023Z
LAST-MODIFIED:20250919T191023Z
UID:2145-1760634000-1760641200@rvar.com
SUMMARY:RVAR Spooky Tailgate
DESCRIPTION:Click here to register online. \nClick here to register by form. \nThis is a free event.
URL:https://rvar.com/event/rvar-spooky-tailgate/
LOCATION:RVAR Office\, 4358 Starkey Rd.\, Roanoke\, VA\, 24018\, United States
END:VEVENT
BEGIN:VEVENT
DTSTART;TZID=America/Detroit:20251014T100000
DTEND;TZID=America/Detroit:20251014T120000
DTSTAMP:20260420T012815
CREATED:20250901T143206Z
LAST-MODIFIED:20250901T143206Z
UID:2098-1760436000-1760443200@rvar.com
SUMMARY:2025 Economic Summit on Housing
DESCRIPTION:Click here to register. \n 
URL:https://rvar.com/event/2025-economic-summit-on-housing/
LOCATION:VA
END:VEVENT
BEGIN:VEVENT
DTSTART;TZID=America/Detroit:20250908T110000
DTEND;TZID=America/Detroit:20250908T180000
DTSTAMP:20260420T012815
CREATED:20250709T182157Z
LAST-MODIFIED:20250711T161424Z
UID:1996-1757329200-1757354400@rvar.com
SUMMARY:RVAR Golf Classic
DESCRIPTION:Click here to print the registration form!
URL:https://rvar.com/event/rvar-golf-classic/
LOCATION:VA
END:VEVENT
BEGIN:VEVENT
DTSTART;TZID=America/Detroit:20250827T110000
DTEND;TZID=America/Detroit:20250827T123000
DTSTAMP:20260420T012815
CREATED:20250528T150815Z
LAST-MODIFIED:20250528T150815Z
UID:1915-1756292400-1756297800@rvar.com
SUMMARY:RVAR Education: The Price is Right
DESCRIPTION:Click here to register by form. \nClick here to register online.
URL:https://rvar.com/event/rvar-education-the-price-is-right/
LOCATION:VA
END:VEVENT
BEGIN:VEVENT
DTSTART;TZID=America/Detroit:20250807T180000
DTEND;TZID=America/Detroit:20250807T213000
DTSTAMP:20260420T012815
CREATED:20250529T194045Z
LAST-MODIFIED:20250711T160222Z
UID:1924-1754589600-1754602200@rvar.com
SUMMARY:Family Fun Night - Salem Red Sox
DESCRIPTION:Click here to register online. \nClick here to download form.
URL:https://rvar.com/event/family-fun-night-salem-red-sox/
LOCATION:VA
END:VEVENT
BEGIN:VEVENT
DTSTART;TZID=America/Detroit:20250731T080000
DTEND;TZID=America/Detroit:20250731T160000
DTSTAMP:20260420T012815
CREATED:20250709T181941Z
LAST-MODIFIED:20250709T181941Z
UID:1994-1753948800-1753977600@rvar.com
SUMMARY:RVAR Back-2-School Drive
DESCRIPTION:Click here for a list of needed items.
URL:https://rvar.com/event/rvar-back-2-school-drive-2/
LOCATION:VA
END:VEVENT
BEGIN:VEVENT
DTSTART;TZID=America/Detroit:20250730T080000
DTEND;TZID=America/Detroit:20250730T170000
DTSTAMP:20260420T012815
CREATED:20250709T181833Z
LAST-MODIFIED:20250709T181833Z
UID:1992-1753862400-1753894800@rvar.com
SUMMARY:RVAR Back-2-School Drive
DESCRIPTION:Click here for a list of needed items
URL:https://rvar.com/event/rvar-back-2-school-drive/
LOCATION:VA
END:VEVENT
BEGIN:VEVENT
DTSTART;TZID=America/Detroit:20250617T110000
DTEND;TZID=America/Detroit:20250617T123000
DTSTAMP:20260420T012815
CREATED:20250404T191724Z
LAST-MODIFIED:20250404T192751Z
UID:1860-1750158000-1750163400@rvar.com
SUMMARY:RVAR Education: Unsure about Insurance?
DESCRIPTION:Click here to register by form. \nClick here to register online.
URL:https://rvar.com/event/rvar-education-unsure-about-insurance/
LOCATION:VA
END:VEVENT
BEGIN:VEVENT
DTSTART;TZID=America/Detroit:20250508T170000
DTEND;TZID=America/Detroit:20250508T190000
DTSTAMP:20260420T012815
CREATED:20250423T181414Z
LAST-MODIFIED:20250423T181550Z
UID:1874-1746723600-1746730800@rvar.com
SUMMARY:5 O'Clock Hops @ Starr Hill Brewery
DESCRIPTION:No registration required.
URL:https://rvar.com/event/5-oclock-hops-starr-hill-brewery/
LOCATION:VA
END:VEVENT
BEGIN:VEVENT
DTSTART;TZID=America/Detroit:20250422T110000
DTEND;TZID=America/Detroit:20250422T123000
DTSTAMP:20260420T012815
CREATED:20250214T161540Z
LAST-MODIFIED:20250404T192805Z
UID:1780-1745319600-1745325000@rvar.com
SUMMARY:RVAR Education: Aging in Place
DESCRIPTION:Click here to register.
URL:https://rvar.com/event/rvar-education-class-aging-in-place/
LOCATION:VA
END:VEVENT
BEGIN:VEVENT
DTSTART;TZID=America/Detroit:20250415T170000
DTEND;TZID=America/Detroit:20250415T200000
DTSTAMP:20260420T012815
CREATED:20250214T154016Z
LAST-MODIFIED:20250214T154129Z
UID:1776-1744736400-1744747200@rvar.com
SUMMARY:REALTOR® & Affiliate Night
DESCRIPTION:Don’t miss the Party of the Year! \nClick here to purchase tickets.
URL:https://rvar.com/event/1776/
LOCATION:VA
END:VEVENT
BEGIN:VEVENT
DTSTART;TZID=America/Detroit:20250325T110000
DTEND;TZID=America/Detroit:20250325T123000
DTSTAMP:20260420T012815
CREATED:20250124T151217Z
LAST-MODIFIED:20250310T124147Z
UID:1731-1742900400-1742905800@rvar.com
SUMMARY:RVAR Education - A Flood of Information
DESCRIPTION:Click here to register via email or fax. \nClick here to register online
URL:https://rvar.com/event/rvar-flood-class-a-flood-of-information/
LOCATION:VA
END:VEVENT
BEGIN:VEVENT
DTSTART;TZID=America/Detroit:20250206T190000
DTEND;TZID=America/Detroit:20250206T220000
DTSTAMP:20260420T012815
CREATED:20241126T201811Z
LAST-MODIFIED:20250204T203747Z
UID:1617-1738868400-1738879200@rvar.com
SUMMARY:RVAR Family Fun Night - Roanoke Rail Yard Dawgs
DESCRIPTION:  \n  \n 
URL:https://rvar.com/event/rvar-family-fun-night-roanoke-rail-yard-dawgs/
LOCATION:VA
END:VEVENT
BEGIN:VEVENT
DTSTART;VALUE=DATE:20250120
DTEND;VALUE=DATE:20250121
DTSTAMP:20260420T012815
CREATED:20250102T142720Z
LAST-MODIFIED:20250102T142720Z
UID:1701-1737331200-1737417599@rvar.com
SUMMARY:RVAR Office Closed in Remembrance of Dr Martin Luther King Jr.
DESCRIPTION:
URL:https://rvar.com/event/rvar-office-closed-in-remembrance-of-dr-martin-luther-king-jr/
LOCATION:VA
END:VEVENT
BEGIN:VEVENT
DTSTART;TZID=America/Detroit:20250116T170000
DTEND;TZID=America/Detroit:20250116T190000
DTSTAMP:20260420T012815
CREATED:20250102T124147Z
LAST-MODIFIED:20250102T124147Z
UID:1699-1737046800-1737054000@rvar.com
SUMMARY:5 O'clock Hops - Parkway Brewery
DESCRIPTION:Join us for our first 5 O’clock Hops of 2025!! \nNo registration is required.
URL:https://rvar.com/event/5-oclock-hops-parkway-brewery/
LOCATION:VA
END:VEVENT
BEGIN:VEVENT
DTSTART;VALUE=DATE:20241231
DTEND;VALUE=DATE:20250102
DTSTAMP:20260420T012815
CREATED:20241125T210609Z
LAST-MODIFIED:20241125T210609Z
UID:1615-1735603200-1735775999@rvar.com
SUMMARY:RVAR Office closed for New Year's
DESCRIPTION:
URL:https://rvar.com/event/rvar-office-closed-for-new-years/
LOCATION:VA
END:VEVENT
BEGIN:VEVENT
DTSTART;VALUE=DATE:20241223
DTEND;VALUE=DATE:20241226
DTSTAMP:20260420T012815
CREATED:20241125T210354Z
LAST-MODIFIED:20241125T210448Z
UID:1612-1734912000-1735171199@rvar.com
SUMMARY:RVAR Office closed for Christmas
DESCRIPTION:
URL:https://rvar.com/event/rvar-office-closed-for-christmas/
LOCATION:VA
END:VEVENT
BEGIN:VEVENT
DTSTART;TZID=America/Detroit:20241213T083000
DTEND;TZID=America/Detroit:20241213T103000
DTSTAMP:20260420T012815
CREATED:20240926T153548Z
LAST-MODIFIED:20241105T132801Z
UID:1498-1734078600-1734085800@rvar.com
SUMMARY:Installation & Awards Breakfast
DESCRIPTION:Hotel Roanoke \nClick here to register.
URL:https://rvar.com/event/installation-awards-breakfast/
LOCATION:Hotel Roanoke\, 110 Shenandoah Ave NE\, Roanoke\, VA\, 24016\, United States
END:VEVENT
END:VCALENDAR