BEGIN:VCALENDAR
VERSION:2.0
PRODID:-//Roanoke Valley Association of REALTORS® - ECPv6.15.18//NONSGML v1.0//EN
CALSCALE:GREGORIAN
METHOD:PUBLISH
X-ORIGINAL-URL:https://rvar.com
X-WR-CALDESC:Events for Roanoke Valley Association of REALTORS®
REFRESH-INTERVAL;VALUE=DURATION:PT1H
X-Robots-Tag:noindex
X-PUBLISHED-TTL:PT1H
BEGIN:VTIMEZONE
TZID:America/Detroit
BEGIN:DAYLIGHT
TZOFFSETFROM:-0500
TZOFFSETTO:-0400
TZNAME:EDT
DTSTART:20250309T070000
END:DAYLIGHT
BEGIN:STANDARD
TZOFFSETFROM:-0400
TZOFFSETTO:-0500
TZNAME:EST
DTSTART:20251102T060000
END:STANDARD
BEGIN:DAYLIGHT
TZOFFSETFROM:-0500
TZOFFSETTO:-0400
TZNAME:EDT
DTSTART:20260308T070000
END:DAYLIGHT
BEGIN:STANDARD
TZOFFSETFROM:-0400
TZOFFSETTO:-0500
TZNAME:EST
DTSTART:20261101T060000
END:STANDARD
BEGIN:DAYLIGHT
TZOFFSETFROM:-0500
TZOFFSETTO:-0400
TZNAME:EDT
DTSTART:20270314T070000
END:DAYLIGHT
BEGIN:STANDARD
TZOFFSETFROM:-0400
TZOFFSETTO:-0500
TZNAME:EST
DTSTART:20271107T060000
END:STANDARD
END:VTIMEZONE
BEGIN:VEVENT
DTSTART;VALUE=DATE:20260525
DTEND;VALUE=DATE:20260526
DTSTAMP:20260425T110207
CREATED:20260424T153657Z
LAST-MODIFIED:20260424T153657Z
UID:2563-1779667200-1779753599@rvar.com
SUMMARY:RVAR Office Closed for Memorial Day
DESCRIPTION:
URL:https://rvar.com/event/rvar-office-closed-for-memorial-day/
END:VEVENT
BEGIN:VEVENT
DTSTART;TZID=America/Detroit:20260609T100000
DTEND;TZID=America/Detroit:20260609T153000
DTSTAMP:20260425T110207
CREATED:20260416T125533Z
LAST-MODIFIED:20260416T125818Z
UID:2539-1780999200-1781019000@rvar.com
SUMMARY:Virginia REALTORS® Legal & Economic Symposium
DESCRIPTION:Click here for more information and to register. *Up to 4 hours of CE available.
URL:https://rvar.com/event/virginia-realtors-legal-economic-symposium/
LOCATION:The Taubman Museum\, 110 Salem Ave.\, SE\, Roanoke\, VA\, 24011
END:VEVENT
BEGIN:VEVENT
DTSTART;TZID=America/Detroit:20260611T180000
DTEND;TZID=America/Detroit:20260611T210000
DTSTAMP:20260425T110207
CREATED:20260424T140224Z
LAST-MODIFIED:20260424T140608Z
UID:2548-1781200800-1781211600@rvar.com
SUMMARY:RVAR Family Fun Night with the Salem RidgeYaks
DESCRIPTION:Click here to get your tickets. \nClick here to download the event flyer.
URL:https://rvar.com/event/rvar-family-fun-night-with-the-salem-ridgeyaks/
END:VEVENT
END:VCALENDAR